Workbook

Sheet 14
K3: Datos
K4: Estadísticos
K5: de la Junta General Ejecutiva
A7: Año | B7: Fecha | C7: Tipo de sesión | E7: Acuerdos | G7: Dictámenes y Resoluciones | I7: Informes | K7: Observaciones
C8: Ord. | D8: Ext.
A10: 2014 | B10: 24 de abril | C10: X | E10: 7 | I10: 6 | J10: * | K10: * Elaboración de las Carpetas de Información Básica Distrital.
B11: 24 de abril | D11: X | E11: 1
B12: 27 de mayo | C12: X | E12: 9 | F12: * | G12: 4 | I12: 6 | K12: * INE/JGE09/2014 Primer Informe Trimestral de Actividades JGE enero a marzo 2014.
B13: 27 de junio | C13: X | E13: 11 | G13: 3 | I13: 7 | J13: * | K13: * Presentación de los Impactos para la implementación del Protocolo para prevenir, atender y sancionar el hostigamiento y acoso sexual o laboral del INE.
B14: 10 de julio | C14: X | E14: 1 | G14: 1 | I14: 2
B15: 10 de julio | D15: X | E15: 2 | F15: * | K15: * INE/JGE39/2014 por el que se aprueba el Plan de Trabajo para el desarrollo del Sistema en Línea de Contabilidad de los Partidos Políticos.
B16: 7 de agosto | D16: X | E16: 2
B17: 11 de agosto | D17: X | E17: 1
B18: 25 de agosto | D18: X | E18: 2
B19: 25 de agosto | C19: X | E19: 9 | F19: * | G19: 1 | I19: 4 | K19: * INE/JGE45/2014 Segundo Informe Trimestral de Actividades JGE abril a junio 2014.
B20: 5 de septiembre | D20: X | E20: 1
B21: 17 de septiembre | D21: X | E21: 1
B22: 19 de septiembre | D22: X | E22: 1 | I22: 2 | J22: * | K22: * Desarrollo de los cómputos totales correspondientes a las elecciones de integrantes del Consejo Nacional y Congreso Nacional del Partido de la Revolución Democrática.
B23: 26 de septiembre | C23: X | E23: 10 | F23: * | G23: 3 | I23: 3 | K23: * INE/JGE60/2014 por el que aprueba el Plan y Calendario Integral del Proceso Electoral Federal 2014-2015, para someterlo a consideración del Consejo General del Instituto Nacional Electoral INE/JGE67/2014 Opinión que emite la JGE, para la conformación del Reglamento Interior del INE, respecto al apartado relativo a la integración y atribuciones de las Comisiones de Vigilancia.
B24: 26 de septiembre | D24: X | E24: 1
B25: 6 de octubre | D25: X | E25: 4
B26: 14 de octubre | D26: X | E26: 2
B27: 29 de octubre | C27: X | E27: 11 | I27: 5
B28: 17 de noviembre | C28: X | E28: 19 | F28: * | G28: 1 | I28: 5 | K28: * INE/JGE89/2014 Tercer Informe Trimestral de Actividades JGE julio a septiembre 2014.
B29: 17 de noviembre | D29: X | E29: 1
B30: 26 de noviembre | D30: X | E30: 7
B31: 3 de diciembre | D31: X | E31: 6
B32: 15 de diciembre | D32: X | E32: 3
B34: 17 de diciembre | C34: X | E34: 11 | G34: 1 | I34: 4
A36: Total | B36: =+C36+D36 -> 24 | C36: =COUNTIF(C10:C35,"X") -> 9 | D36: =COUNTIF(D10:D35,"X") -> 15 | E36: =SUM(E10:E34) -> 123 | G36: =SUM(G10:G34) -> 14 | I36: =SUM(I10:I34) -> 44 | L36: =SUM(E36:J36) -> 181
A38: % | B38: =+C38+D38 -> 1 | C38: =C36/B36 -> 0.375 | D38: =+D36/B36 -> 0.625 | E38: =+E36/L36 -> 0.67955801 | G38: =+G36/L36 -> 0.077348066 | I38: =+I36/L36 -> 0.24309392 | L38: =SUM(E38:J38) -> 1

Sheet 15
K3: Datos
K4: Estadísticos
K5: de la Junta General Ejecutiva
A7: Año | B7: Fecha | C7: Tipo de sesión | E7: Acuerdos | G7: Dictámenes y Resoluciones | I7: Informes | K7: Observaciones
C8: Ord. | D8: Ext.
A10: 2015 | B10: 22 de enero | C10: X | E10: 10 | F10: * | I10: 10 | K10: * INE/JGE01/2015 por el que se modifica el “Manual de Normas Administrativas en Materia de Recursos Financieros del Instituto Federal Electoral”, aprobado mediante Acuerdo JGE89/2013. INE/JGE02/2015 por el que se modifica el “Manual de Procedimientos en Materia de Recursos Financieros del Instituto Federal Electoral”, aprobado mediante Acuerdo JGE124/2013.
B11: 22 de enero | D11: X | G11: 1
B12: 30 de enero | D12: X | E12: 4
B13: 16 de febrero | C13: X | E13: 10 | F13: * | G13: 2 | I13: 4 | K13: * INE/JGE16/2015 Cuarto Informe Trimestral de Actividades JGE octubre a diciembre 2014. INE/JGE17/2015 Informe Anual de Actividades JGE, correspondiente al año 2014.
B14: 26 de febrero | D14: X | E14: 4 | F14: * | I14: 1 | K14: * INE/JGE30/2015 por el cual se establecen las bases para otorgar una compensación al personal del Instituto Nacional Electoral, con motivo de las labores extraordinarias derivadas del Proceso Electoral Federal 2014-2015.
B15: 9 de marzo | D15: X | E15: 2 | F15: * | K15: * INE/JGE32/2015 Aprobación del Informe que presenta el Secretario Ejecutivo a la Junta General Ejecutiva sobre las actividades realizadas para el desarrollo e implementación de una aplicación informática que contribuya al cumplimiento de las obligaciones de los partidos políticos y candidatos, así como de las atribuciones que en materia de fiscalización tiene el Instituto Nacional Electoral, mismo que deberá presentarse ante el Consejo General.
B16: 20 de marzo | C16: X | E16: 10 | F16: * | G16: 1 | I16: 4 | K16: * INE/JGE34/2015 se designa al servidor público que integrará y presidirá el Comité de Información.
B17: 26 de marzo | D17: X | E17: 1 | G17: 1
B18: 13 de abril | D18: X | E18: 2
B19: 27 de abril | C19: X | E19: 9 | F19: * | G19: 1 | I19: 5 | K19: * INE/JGE57/2015 Segundo Informe que presenta el Secretario Ejecutivo a la Junta General Ejecutiva sobre las actividades realizadas para el desarrollo e implementación de una aplicación informática que contribuya al cumplimiento de las obligaciones de los partidos políticos y candidatos, así como de las atribuciones que en materia de fiscalización tiene el Instituto Nacional Electoral, mismo que deberá presentarse ante el Consejo General. INE/JGE58/2015 Informe de Actividades que presenta la Dirección del Secretariado sobre la función de la Oficialía Electoral.
B34: 21 de mayo | C34: X | E34: 9 | F34: * | G34: 1 | I34: 4 | K34: * INE/JGE59/2015 Tercer Informe que presenta el Secretario Ejecutivo a la Junta General Ejecutiva sobre las actividades realizadas para el desarrollo e implementación de una aplicación informática que contribuya al cumplimiento de las obligaciones de los partidos políticos y candidatos, así como de las atribuciones que en materia de fiscalización tiene el Instituto Nacional Electoral, mismo que deberá presentarse ante el Consejo General. INE/JGE61/2015 Informe de Actividades que presenta la Dirección del Secretariado sobre la función de la Oficialía Electoral.
B35: 18 de junio | C35: X | E35: 7 | F35: * | G35: 2 | I35: 3 | K35: * INE/JGE69/2015 Informe de Actividades que presenta la Dirección del Secretariado sobre la función de la Oficialía Electoral. INE/JGE72/2015 Primer Informe Trimestral de Actividades del Grupo de Trabajo de Género, No Discriminación y Cultura Laboral.
B36: 22 de junio | D36: X | E36: 5
A37: 2015 | B37: 6 de julio | D37: X | E37: 2
B38: 23 de julio | C38: X | E38: 10 | F38: * | G38: 2 | I38: 5 | K38: * INE/JGE85/2015 Informe de Actividades que presenta la Dirección del Secretariado sobre la función de la Oficialía Electoral. INE/JGE86/2015 Primer Informe Trimestral de Actividades JGE enero a marzo 2015.
B39: 25 de agosto | C39: X | E39: 7 | F39: * | I39: 3 | K39: * INE/JGE97/2015 Informe de Actividades que presenta la Dirección del Secretariado sobre la función de la Oficialía Electoral. INE/JGE98/2015 Segundo Informe Trimestral de Actividades JGE abril a junio 2015. INE/JGE99/2015 Segundo Informe Trimestral 2015 de Actividades del Grupo de Trabajo de Género, No Discriminación y Cultura Laboral.
B40: 27 de agosto | D40: X | E40: 6 | I40: 1
B41: 3 de septiembre | D41: X | E41: 3 | G41: 2 | H41: * | I41: 3 | K41: * INE/JGE110/2015 por el que se emite la Declaratoria de Pérdida de Registro del Partido del Trabajo, por no haber obtenido por lo menos el 3% de la votación emitida en la Elección Federal Ordinaria para Diputados, celebrada el 7 de junio de 2015. INE/JGE111/2015 por el que se emite la Declaratoria de Pérdida de Registro del Partido Humanista, por no haber obtenido por lo menos el 3% de la votación emitida en la Elección Federal Ordinaria para Diputados, celebrada el 7 de junio de 2015.
B42: 28 de septiembre | C42: X | E42: 4 | I42: 1
B43: 28 de septiembre | D43: X | E43: 1
B44: 1 de octubre | D44: X | E44: 3 | G44: 1
B45: 27 de octubre | C45: X | E45: 14 | F45: * | G45: 1 | I45: 6 | K45: * INE/JGE126/2015 Informe de Actividades que presenta la Dirección del Secretariado sobre la función de la Oficialía Electoral.
B46: 27 de octubre | D46: X | E46: 2
B47: 4 de noviembre | D47: X | E47: 3
B48: 10 de noviembre | D48: X | E48: 4
B49: 23 de noviembre | C49: X | E49: 21 | F49: * | I49: 4 | K49: * INE/JGE148/2015 Tercer Informe Trimestral de Actividades JGE julio a septiembre 2015. INE/JGE149/2015 Informe de Actividades que presenta la Dirección del Secretariado sobre la función de la Oficialía Electoral.
B50: 11 de diciembre | C50: X | E50: 19 | F50: * | G50: 1 | I50: 1 | K50: * INE/JGE169/2015 Informe de Actividades que presenta la Dirección del Secretariado sobre la función de la Oficialía Electoral. INE/JGE171/2015 Tercer Informe Trimestral de Actividades 2015 del Grupo de Trabajo de Género, No Discriminación y Cultura Laboral del INE.
B51: 11 de diciembre | D51: X | E51: 5 | I51: 1
A53: Total | B53: =+C53+D53 -> 28 | C53: =COUNTIF(C10:C52,"X") -> 12 | D53: =COUNTIF(D10:D52,"X") -> 16 | E53: =SUM(E10:E51) -> 177 | G53: =SUM(G10:G51) -> 16 | I53: =SUM(I10:I51) -> 56 | L53: =SUM(E53:J53) -> 249
A55: % | B55: =+C55+D55 -> 1 | C55: =C53/B53 -> 0.42857143 | D55: =+D53/B53 -> 0.57142857 | E55: =+E53/L53 -> 0.71084337 | G55: =+G53/L53 -> 0.064257028 | I55: =+I53/L53 -> 0.2248996 | L55: =SUM(E55:J55) -> 1

Sheet 16
K3: Datos
K4: Estadísticos
K5: de la Junta General Ejecutiva
A7: Año | B7: Fecha | C7: Tipo de sesión | E7: Acuerdos | G7: Dictámenes y Resoluciones | I7: Informes | K7: Observaciones
C8: Ord. | D8: Ext.
A10: 2016 | B10: 8 de enero | D10: X | E10: 1
B11: 13 de enero | D11: X | E11: 7
B12: 25 de enero | C12: X | E12: 23 | F12: * | G12: 1 | I12: 5 | K12: * INE/JGE09/2016 Informe de Actividades que presenta la Dirección del Secretariado sobre la función de la Oficialía Electoral.
B13: 3 de febrero | D13: X | E13: 2
B14: 16 de febrero | C14: X | E14: 21 | F14: * | G14: 1 | I14: 4 | K14: * INE/JGE35/2016 Cuarto Informe Trimestral de Actividades JGE octubre a diciembre 2015. INE/JGE36/2016 Informe Anual de Actividades JGE, correspondiente al año 2015. INE/JGE37/2016 Informe de Actividades que presenta la Dirección del Secretariado sobre la función de la Oficialía Electoral.
B15: 29 de febrero | D15: X | E15: 5 | I15: 1
B16: 7 de marzo | D16: X | E16: 1
B17: 17 de marzo | D17: X | E17: 1
B18: 28 de marzo | D18: X | E18: 1
B19: 31 de marzo | C19: X | E19: 20 | F19: * | G19: 1 | I19: 5 | K19: * INE/JGE65/2016 Informe de Actividades que presenta la Dirección del Secretariado sobre la función de la Oficialía Electoral.
B20: 25 de abril | C20: X | E20: 19 | F20: * | G20: 2 | I20: 4 | K20: * INE/JGE86/2016 Informe de Actividades que presenta la Dirección del Secretariado sobre la función de la Oficialía Electoral.
B21: 27 de abril | D21: X | E21: 3
B22: 27 de abril | D22: X | E22: 3 | F22: * | K22: * INE/JGE111/2016 por el cual se establecen las bases para otorgar una compensación al personal del INE, con motivo de las labores extraordinarias derivadas de los Procesos Electorales Federales y Concurrentes, Locales, Extraordinarios, Internas de Partido y otras consultas. INE/JGE112/2016 por el cual se establecen las bases para otorgar una compensación al personal del INE, con motivo de las labores extraordinarias derivadas de los Procesos Electorales Locales 2015 – 2016, de la elección de la Asamblea Constituyente de la Ciudad de México, y de las elecciones extraordinarias que derivaron de los Procesos Electorales 2014 – 2015.
B23: 4 de mayo | D23: X | E23: 1
B24: 18 de mayo | D24: X | E24: 2 | F24: * | K24: * INE/JGE114/2016 se designa al servidor público que integrará el Comité de Transparencia del INE.
B25: 19 de mayo | D25: X | E25: 1
B26: 23 de mayo | C26: X | E26: 12 | F26: * | G26: 2 | I26: 6 | K26: * INE/JGE117/2016 Informe de Actividades que presenta la Dirección del Secretariado sobre la función de la Oficialía Electoral. INE/JGE118/2016 Primer Informe Trimestral de Actividades JGE enero a marzo 2016.
B27: 26 de mayo | D27: X | E27: 5
B28: 1 de junio | D28: X | E28: 1
B29: 27 de junio | C29: X | E29: 20 | F29: * | I29: 6 | K29: * INE/JGE137/2016 Informe de Actividades que presenta la Dirección del Secretariado sobre la función de la Oficialía Electoral.
B30: 29 de junio | D30: X | E30: 2
B31: 13 de julio | C31: X | E31: 15 | F31: * | I31: 2 | K31: * INE/JGE159/2016 Informe de Actividades que presenta la Dirección del Secretariado sobre la función de la Oficialía Electoral.
A32: 2016 | B32: 13 de julio | D32: X | E32: 1
B33: 15 de julio | D33: X | E33: 1
B34: 16 de agosto | D34: X | E34: 5
B35: 18 de agosto | D35: X | E35: 8
B36: 22 de agosto | C36: X | E36: 12 | F36: * | G36: 3 | I36: 2 | K36: * INE/JGE189/2016 Informe de Actividades que presenta la Dirección del Secretariado sobre la función de la Oficialía Electoral. INE/JGE190/2016 Segundo Informe Trimestral de Actividades JGE abril a junio 2016.
B37: 24 de agosto | D37: X | E37: 2
B38: 1 de septiembre | D38: X | E38: 4
B39: 14 de septiembre | D39: X | E39: 3
B40: 26 de septiembre | C40: X | E40: 20 | F40: * | G40: 1 | I40: 7 | K40: * INE/JGE213/2016 Informe de Actividades que presenta la Dirección del Secretariado sobre la función de la Oficialía Electoral.
B41: 26 de septiembre | D41: X | E41: 1
B42: 12 de octubre | D42: X | E42: 11 | G42: 2
B43: 19 de octubre | D43: X | E43: 1
B44: 21 de octubre | D44: X | E44: 3
B45: 25 de octubre | C45: X | E45: 7 | F45: * | G45: 5 | I45: 6 | K45: * INE/JGE252/2016 Informe de Actividades que presenta la Dirección del Secretariado sobre la función de la Oficialía Electoral.
B46: 28 de octubre | D46: X | E46: 3 | G46: 1
B47: 10 de noviembre | D47: X | E47: 13
B48: 23 de noviembre | C48: X | E48: 11 | F48: * | G48: 4 | I48: 6 | K48: * INE/JGE281/2016 Tercer Informe Trimestral de Actividades JGE julio a septiembre 2016. INE/JGE282/2016 Informe de Actividades que presenta la Dirección del Secretariado sobre la función de la Oficialía Electoral.
B49: 23 de noviembre | D49: X | E49: 1
B50: 5 de diciembre | D50: X | E50: 23 | G50: 5
B51: 19 de diciembre | C51: X | E51: 24 | F51: * | G51: 2 | K51: * INE/JGE325/2016 Informe de Actividades que presenta la Dirección del Secretariado sobre la función de la Oficialía Electoral.
B52: 19 de diciembre | D52: X | E52: 1
B53: 23 de diciembre | D53: X | E53: 1
A55: Total | B55: =+C55+D55 -> 44 | C55: =COUNTIF(C10:C54,"X") -> 12 | D55: =COUNTIF(D10:D54,"X") -> 32 | E55: =SUM(E10:E53) -> 322 | G55: =SUM(G10:G53) -> 30 | I55: =SUM(I10:I53) -> 54 | L55: =SUM(E55:J55) -> 406
A57: % | B57: =+C57+D57 -> 1 | C57: =C55/B55 -> 0.27272727 | D57: =+D55/B55 -> 0.72727273 | E57: =+E55/L55 -> 0.79310345 | G57: =+G55/L55 -> 0.073891626 | I57: =+I55/L55 -> 0.13300493 | L57: =SUM(E57:J57) -> 1

Sheet 17
K3: Datos
K4: Estadísticos
K5: de la Junta General Ejecutiva
A7: Año | B7: Fecha | C7: Tipo de sesión | E7: Acuerdos | G7: Dictámenes y Resoluciones | I7: Informes | K7: Observaciones
C8: Ord. | D8: Ext.
A10: 2017 | B10: 20 de enero | C10: X | E10: 6 | G10: 3 | I10: 4
B11: 25 de enero | D11: X | E11: 4
B12: 30 de enero | D12: X | E12: 4
B13: 17 de febrero | C13: X | E13: 12 | I13: 5
B14: 21 de febrero | D14: X | E14: 1
B15: 13 de marzo | D15: X | E15: 6 | F15: * | I15: 1 | K15: * INE/JGE36/2017 Presentación del Programa de Trabajo 2017 del Comité de Planeación Institucional.
B16: 17 de marzo | D16: X | E16: 1
B17: 27 de marzo | C17: X | E17: 10 | F17: * | G17: 2 | I17: 7 | J17: ** | K17: * INE/JGE38/2017 Cuarto Informe Trimestral de Actividades JGE octubre a diciembre 2016. INE/JGE39/2017 Informe Anual de Actividades JGE, correspondiente al año 2016. ** Primer Informe Trimestral de Actividades de la Oficialía Electoral (10 de diciembre de 2016 al 10 de marzo de 2017)
B18: 27 de marzo | D18: X | E18: 8 | F18: * | K18: * INE/JGE54/2017 por el cual se establecen las bases para otorgar una compensación al personal del Instituto Nacional Electoral, con motivo de las labores extraordinarias derivadas de los Procesos Electorales Locales Ordinarios 2016 - 2017.
B19: 4 de abril | D19: X | E19: 2
B20: 19 de abril | C20: X | E20: 7 | G20: 1 | I20: 3
B21: 28 de abril | D21: X | E21: 13 | I21: 2
B22: 9 de mayo | D22: X | E22: 1
B23: 19 de mayo | C23: X | E23: 11 | G23: 3 | I23: 4
B24: 19 de mayo | D24: X | E24: 4
B25: 30 de mayo | D25: X | E25: 5 | G25: 1 | I25: 1
B26: 13 de junio | D26: X | E26: 4 | G26: 2
B27: 23 de junio | C27: X | E27: 7 | I27: 5 | J27: * | K27: * Segundo Informe Trimestral de Actividades de la Oficialía Electoral (11 de marzo al 10 de junio de 2017).
B28: 3 de julio | D28: X | E28: 1
B29: 12 de julio | C29: X | E29: 9 | I29: 3
B30: 18 de julio | D30: X | E30: 11 | I30: 1 | J30: * | K30: * Presentación de los escenarios finales de Distritación Local de los estados de Oaxaca, Puebla y Sonora, en acatamiento de las sentencias del Tribunal Electoral del Poder Judicial de la Federación.
B31: 24 de agosto | C31: X | E31: 5 | F31: * | G31: 1 | I31: 5 | J31: ** | K31: * INE/JGE140/2017 Primer Informe Trimestral de Actividades JGE enero a marzo 2017. ** Presentación del Programa de Capacitación Electoral (Estructura Curricular) para el Proceso Electoral 2017-2018, en cumplimiento a lo dispuesto en el artículo 49, numeral 1, inciso c) del Reglamento Interior del INE.
B32: 24 de agosto | D32: X | E32: 1
B33: 29 de agosto | D33: X | E33: 10 | F33: * | K33: * INE/JGE156/2017 por el que se aprueba el Plan y Calendario Integral del Proceso Electoral Federal 2017-2018, para someterlo a consideración del CG del INE.
B34: 21 de septiembre | C34: X | E34: 2 | I34: 3 | J34: * | K34: * Tercer Informe Trimestral de Actividades de la Oficialía Electoral (11 de junio al 10 de septiembre de 2017).
B35: 10 de octubre | C35: X | E35: 12 | F35: * | G35: 4 | I35: 7 | K35: * INE/JGE159/2017 Segundo Informe Trimestral de Actividades JGE abril a junio 2017.
B36: 18 de octubre | D36: X | E36: 5
A37: 2017 | B37: 24 de octubre | D37: X | E37: 5
B38: 27 de octubre | D38: X | E38: 2
B39: 7 de noviembre | D39: X | E39: 3
B40: 14 de noviembre | C40: X | E40: 11 | F40: * | I40: 11 | K40: * INE/JGE190/2017 Tercer Informe Trimestral de Actividades JGE julio a septiembre 2017.
B41: 14 de noviembre | D41: X | E41: 1 | G41: 1
B42: 27 de noviembre | D42: X | E42: 5 | G42: 3
B43: 6 de diciembre | D43: X | E43: 3
B44: 11 de diciembre | C44: X | E44: 18 | I44: 4 | J44: * | K44: * Cuarto Informe Trimestral de Actividades de la Oficialía Electoral (septiembre – noviembre 2017)
B45: 20 de diciembre | D45: X | E45: 1
A47: Total | B47: =+C47+D47 -> 36 | C47: =COUNTIF(C10:C46,"X") -> 12 | D47: =COUNTIF(D10:D46,"X") -> 24 | E47: =SUM(E10:E45) -> 211 | G47: =SUM(G10:G45) -> 21 | I47: =SUM(I10:I45) -> 66 | L47: =SUM(E47:J47) -> 298
A49: % | B49: =+C49+D49 -> 1 | C49: =C47/B47 -> 0.33333333 | D49: =+D47/B47 -> 0.66666667 | E49: =+E47/L47 -> 0.70805369 | G49: =+G47/L47 -> 0.070469799 | I49: =+I47/L47 -> 0.22147651 | L49: =SUM(E49:J49) -> 1

Sheet 18
K3: Datos
K4: Estadísticos
K5: de la Junta General Ejecutiva
A7: Año | B7: Fecha | C7: Tipo de sesión | E7: Acuerdos | G7: Dictámenes y Resoluciones | I7: Informes | K7: Observaciones
C8: Ord. | D8: Ext.
A10: 2018 | B10: 29 de enero | C10: X | E10: 15 | G10: 7 | I10: 8
B11: 15 de febrero | D11: X | E11: 2 | I11: 2
B12: 20 de febrero | C12: X | E12: 2 | I12: 5
B13: 16 de marzo | D13: X | E13: 1
B14: 20 de marzo | C14: X | E14: 17 | F14: * | G14: 2 | I14: 9 | J14: ** | K14: * INE/JGE28/2018 Cuarto Informe Trimestral de Actividades JGE octubre a diciembre 2017. ** Primer Informe Trimestral de Actividades de la Oficialía Electoral (diciembre 2017 - febrero 2018)
B15: 28 de marzo | D15: X | E15: 9 | I15: 1
B16: 5 de abril | D16: X | E16: 1
B17: 18 de abril | C17: X | E17: 10 | G17: 5 | I17: 4
B18: 3 de mayo | D18: X | E18: 7 | I18: 1
B19: 14 de mayo | C19: X | E19: 15 | F19: * | G19: 3 | I19: 4 | K19: * INE/JGE79/2018 Informe Anual de Actividades JGE correspondiente al año 2017. INE/JGE93/2018 Informe sobre la conformación de la Lista Nominal de Electores Residentes en el Extranjero (LNERE) por entidad federativa de voto y país de residencia en el extranjero.
B20: 30 de mayo | D20: X | E20: 6
B21: 15 de junio | C21: X | E21: 4 | F21: * | I21: 5 | J21: ** | K21: * INE/JGE103/2018 Primer Informe Trimestral de Actividades JGE enero a marzo 2018. ** Segundo Informe Trimestral de Actividades de la Oficialía Electoral (marzo - mayo 2018)
B22: 3 de julio | D22: X | E22: 2 | G22: 1
B23: 13 de julio | C23: X | E23: 3 | G23: 1 | I23: 6
B24: 31 de julio | D24: X | E24: 7 | I24: 2
B25: 17 de agosto | C25: X | E25: 11 | G25: 2 | I25: 8
B26: 3 de septiembre | D26: X | E26: 2 | K26: * INE/JGE134/2018 por el que se emite la declaratoria de pérdida de registro del Partido Político Nacional denominado Nueva Alianza, en virtud de no haber obtenido por lo menos el 3 por ciento de la votación válida emitida en la Elección Federal Ordinaria celebrada el 1 de julio de 2018. INE/JGE135/2018 por el que se emite la declaratoria de pérdida de registro del Partido Político Nacional denominado Encuentro Social, en virtud de no haber obtenido por lo menos el 3 por ciento de la votación válida emitida en la Elección Federal Ordinaria celebrada el 1 de julio de 2018.
B27: 6 de septiembre | C27: X | E27: 19 | F27: * | G27: 1 | I27: 6 | J27: ** | K27: * INE/JGE147/2018 Informe Final del Seguimiento al Plan y Calendario Integral del Proceso Electoral Federal 2017-2018. ** Tercer Informe Trimestral de Actividades de la Oficialía Electoral (junio - agosto 2018)
B28: 7 de septiembre | D28: X | E28: 1 | F28: * | K28: * INE/JGE156/2018 por el que se aprueban los Lineamientos del Programa Especial de Retiro y Reconocimiento al personal de las Ramas Administrativa y del Servicio Profesional Electoral Nacional del INE, para el ejercicio 2018.
B29: 7 de septiembre | D29: X | E29: 2
B30: 13 de septiembre | D30: X | E30: 3
B31: 10 de octubre | C31: X | E31: 10 | F31: * | G31: 2 | I31: 3 | K31: * INE/JGE162/2018 Segundo Informe Trimestral de Actividades JGE abril a junio 2018.
B32: 10 de octubre | D32: X | E32: 5
B33: 22 de octubre | D33: X | E33: 9 | I33: 1 | J33: * | K33: * Presentación del “Programa de Capacitación Electoral (Estructura Curricular)”, que forma parte de la Estrategia de Capacitación y Asistencia Electoral 2018-2019.
B34: 30 de octubre | D34: X | E34: 4 | G34: 2
B35: 12 de noviembre | D35: X | E35: 9 | G35: 2
A36: 2018 | B36: 21 de noviembre | C36: X | E36: 12 | G36: 3 | I36: 6
B37: 26 de noviembre | D37: X | G37: 2
B38: 26 de noviembre | D38: X | E38: 1
B39: 13 de diciembre | C39: X | E39: 26 | F39: * | I39: 5 | J39: ** | K39: * INE/JGE223/2018 Tercer Informe Trimestral de Actividades JGE julio a septiembre 2018. ** Cuarto Informe Trimestral de Actividades de la Oficialía Electoral (septiembre - noviembre 2018)
B40: 13 de diciembre | D40: X | E40: 1 | I40: 1 | J40: * | K40: * Presentación del Plan Anual de Implementación de la ENCCIVICA 2019.
A42: Total | B42: =+C42+D42 -> 31 | C42: =COUNTIF(C10:C40,"X") -> 12 | D42: =COUNTIF(D10:D40,"X") -> 19 | E42: =SUM(E10:E40) -> 216 | G42: =SUM(G10:G40) -> 33 | I42: =SUM(I10:I40) -> 77 | L42: =SUM(E42:J42) -> 326
A44: % | B44: =+C44+D44 -> 1 | C44: =C42/B42 -> 0.38709677 | D44: =+D42/B42 -> 0.61290323 | E44: =+E42/L42 -> 0.66257669 | G44: =+G42/L42 -> 0.10122699 | I44: =+I42/L42 -> 0.23619632 | L44: =SUM(E44:J44) -> 1

Sheet 19
K3: Datos
K4: Estadísticos
K5: de la Junta General Ejecutiva
A7: Año | B7: Fecha | C7: Tipo de sesión | E7: Acuerdos | G7: Dictámenes y Resoluciones | I7: Informes | K7: Observaciones
C8: Ord. | D8: Ext.
A10: 2019 | B10: 16 de enero | C10: X | E10: 7 | I10: 3
B11: 22 de enero | D11: X | E11: 1
B12: 14 de febrero | C12: X | E12: 28 | F12: * | G12: 2 | I12: 6 | K12: * INE/JGE09/2019 se designa al Servidor Público que integrará el Comité de Transparencia del Instituto Nacional Electoral a propuesta de la Secretaría Ejecutiva.
B13: 14 de febrero | D13: X | E13: 1
B14: 26 de febrero | D14: X | E14: 3
B15: 14 de marzo | D15: X | E15: 7 | I15: 2
B16: 14 de marzo | D16: X | E16: 1
B17: 21 de marzo | C17: X | E17: 8 | F17: * | I17: 6 | J17: ** | K17: * INE/JGE51/2019 Cuarto Informe Trimestral de Actividades JGE octubre a diciembre 2018. INE/JGE52/2019 Informe Anual de Actividades JGE, correspondiente al año 2018. ** Primer Informe Trimestral de Actividades de la Oficialía Electoral (1 de diciembre de 2018 al 28 de febrero de 2019)
B18: 11 de abril | C18: X | E18: 10 | G18: 1 | I18: 5
B19: 7 de mayo | D19: X | E19: 9
B20: 16 de mayo | C20: X | E20: 15 | G20: 1 | I20: 6
B21: 31 de mayo | D21: X | E21: 12 | F21: * | I21: 4 | K21: * INE/JGE95/2019 Primer Informe Trimestral de Actividades JGE enero a marzo 2019.
B22: 20 de junio | C22: X | E22: 14 | G22: 3 | I22: 6 | J22: * | K22: * Segundo Informe Trimestral de Actividades de la Oficialía Electoral (1° marzo al 31 de mayo 2019).
B23: 11 de julio | C23: X | E23: 13 | G23: 1 | I23: 5
B24: 26 de agosto | C24: X | E24: 19 | F24: * | G24: 2 | I24: 10 | K24: * INE/JGE138/2019 Segundo Informe Trimestral de Actividades JGE abril a junio 2019.
B25: 26 de agosto | D25: X | E25: 1
B26: 17 de septiembre | D26: X | E26: 1
B27: 19 de septiembre | C27: X | E27: 10 | F27: * | G27: 2 | I27: 7 | K27: * Tercer Informe Trimestral de Actividades de la Oficialía Electoral (Junio - Agosto de 2019).
B28: 31 de octubre | C28: X | E28: 30 | F28: * | G28: 3 | I28: 7 | K28: * INE/JGE173/2019 Tercer Informe Trimestral de Actividades JGE julio a septiembre 2019.
B29: 15 de noviembre | C29: X | E29: 10 | G29: 2 | I29: 7
B30: 9 de diciembre | C30: X | E30: 24 | G30: 3 | I30: 7
B31: 20 de diciembre | D31: X | E31: 1 | I31: 1
A33: Total | B33: =+C33+D33 -> 22 | C33: =COUNTIF(C10:C31,"X") -> 12 | D33: =COUNTIF(D10:D31,"X") -> 10 | E33: =SUM(E10:E31) -> 225 | G33: =SUM(G10:G31) -> 20 | I33: =SUM(I10:I31) -> 82 | L33: =SUM(E33:J33) -> 327
A35: % | B35: =+C35+D35 -> 1 | C35: =C33/B33 -> 0.54545455 | D35: =+D33/B33 -> 0.45454545 | E35: =+E33/L33 -> 0.68807339 | G35: =+G33/L33 -> 0.06116208 | I35: =+I33/L33 -> 0.25076453 | L35: =SUM(E35:J35) -> 1

Sheet 20
K3: Datos
K4: Estadísticos
K5: de la Junta General Ejecutiva
A7: Año | B7: Fecha | C7: Tipo de sesión | E7: Acuerdos | G7: Dictámenes y Resoluciones | I7: Informes | K7: Observaciones
C8: Ord. | D8: Ext.
A10: 2020 | B10: 16 de enero | C10: X | E10: 13 | F10: * | G10: 1 | I10: 6 | J10: ** | K10: * INE/JGE01/2020 Programa Anual de Trabajo 2020 del Comité de Planeación Institucional. ** Cuarto Informe Trimestral de Actividades de la Oficialía Electoral (septiembre - diciembre de 2019)
B11: 17 de febrero | C11: X | E11: 8 | F11: * | G11: 7 | I11: 5 | K11: * INE/JGE15/2020 Cuarto Informe Trimestral de Actividades JGE octubre a diciembre 2019.
B12: 19 de febrero | D12: X | E12: 4 | I12: 2
B13: 17 de marzo | D13: X | E13: 1 | F13: * | K13: * INE/JGE34/2020 por el que se determinan medidas preventivas y de actuación, con motivo de la pandemia del COVID-19.
B14: 19 de marzo | C14: X | E14: 8 | F14: * | G14: 1 | I14: 6 | K14: * INE/JGE35/2020 Informe Anual de Actividades JGE, correspondiente al año 2019.
B15: 19 de marzo | D15: X | E15: 1
B16: 16 de abril | D16: X | E16: 3 | F16: * | K16: * INE/JGE45/2020 por el que se modifica el diverso INE/JGE34/2020, por el que se determinaron medidas preventivas y de actuación, con motivo de la pandemia del COVID-19, a efecto de ampliar la suspensión de plazos.
B17: 4 de mayo | D17: X | E17: 2 | I17: 1
B18: 13 de mayo | D18: X | E18: 8
B19: 27 de mayo | D19: X | E19: 6 | I19: 5
B20: 17 de junio | D20: X | E20: 5 | I20: 4
B21: 24 de junio | D21: X | E21: 1 | F21: * | K21: * INE/JGE69/2020 por el que se aprueba la estrategia y la metodología para el levantamiento de plazos relacionados con actividades administrativas, así como para el regreso paulatino a las actividades presenciales por parte del personal.
B22: 3 de julio | D22: X | E22: 17 | F22: * | I22: 1 | K22: * INE/JGE70/2020 Primer Informe Trimestral de Actividades JGE enero a marzo 2020.
B23: 27 de julio | D23: X | E23: 6 | I23: 3 | J23: * | K23: * Primer informe de actividades de la Oficialía Electoral 2020 (enero a junio).
B24: 24 de agosto | D24: X | E24: 30 | F24: * | I24: 9 | K24: * INE/JGE93/2020 Segundo Informe Trimestral de Actividades JGE abril a junio 2020.
B25: 28 de agosto | D25: X | E25: 5
B26: 14 de septiembre | D26: X | E26: 6
B27: 14 de septiembre | D27: X | E27: 1
B28: 25 de septiembre | C28: X | E28: 5 | G28: 1 | I28: 3
B29: 25 de septiembre | D29: X | E29: 6 | G29: 1
B30: 5 de ocrtubre | D30: X | E30: 1
B31: 14 de ocrtubre | D31: X | E31: 1
B32: 26 de ocrtubre | C32: X | E32: 12 | I32: 6 | J32: * | K32: * Tercer informe de actividades de la Oficialía Electoral (julio-septiembre 2020).
B33: 26 de ocrtubre | D33: X | E33: 1
B34: 20 de noviembre | C34: X | E34: 13 | F34: * | G34: 6 | I34: 8 | K34: * INE/JGE163/2020 Tercer Informe Trimestral de Actividades JGE julio a septiembre 2020.
B35: 7 de diciembre | D35: X | E35: 1
B36: 10 de diciembre | C36: X | E36: 32 | G36: 3 | I36: 6
B37: 10 de diciembre | D37: X | E37: 1
B38: 18 de diciembre | D38: X | E38: 9
A40: Total | B40: =+C40+D40 -> 29 | C40: =COUNTIF(C10:C38,"X") -> 7 | D40: =COUNTIF(D10:D38,"X") -> 22 | E40: =SUM(E10:E38) -> 207 | G40: =SUM(G10:G38) -> 20 | I40: =SUM(I10:I38) -> 65 | L40: =SUM(E40:J40) -> 292
A42: % | B42: =+C42+D42 -> 1 | C42: =C40/B40 -> 0.24137931 | D42: =+D40/B40 -> 0.75862069 | E42: =+E40/L40 -> 0.70890411 | G42: =+G40/L40 -> 0.068493151 | I42: =+I40/L40 -> 0.22260274 | L42: =SUM(E42:J42) -> 1

Sheet 21
K3: Datos
K4: Estadísticos
K5: de la Junta General Ejecutiva
A7: Año | B7: Fecha | C7: Tipo de sesión | E7: Acuerdos | G7: Dictámenes y Resoluciones | I7: Informes | K7: Observaciones
C8: Ord. | D8: Ext.
A10: 2021 | B10: 4 de enero | D10: X | E10: 1
B11: 21 de enero | C11: X | E11: 12 | F11: * | I11: 6 | K11: * INE/JGE02/2021 Programa Anual de Trabajo 2021 del Comité de Planeación Institucional. ** Cuarto Informe Trimestral de Actividades de Oficialía Electoral (octubre - diciembre de 2020)
B12: 2 de febrero | D12: X | E12: 3 | G12: 2
B13: 5 de febrero | D13: X | E13: 1 | G13: 2
B14: 18 de febrero | C14: X | E14: 6 | F14: * | G14: 2 | I14: 9 | K14: * INE/JGE22/2021 Cuarto Informe Trimestral de Actividades JGE octubre, noviembre y diciembre 2020. INE/JGE23/2021 Informe Anual de Actividades JGE, correspondiente al año 2020.
B15: 25 de febrero | D15: X | E15: 14 | G15: 2
B16: 4 de marzo | D16: X | E16: 2 | I16: 1
B17: 19 de marzo | D17: X | E17: 10 | G17: 1
B18: 26 de marzo | C18: X | E18: 6 | I18: 6 | J18: * | K18: *Informe sobre presentación de declaraciones patrimoniales de los CAES y SE.
B19: 9 de abril | D19: X | E19: 4
B20: 22 de abril | C20: X | E20: 10 | I20: 7 | J20: * | K20: * Primer Informe Trimestral de Actividades de Oficialía Electoral (enero-marzo de 2021)
B21: 13 de mayo | D21: X | E21: 10 | I21: 3
B22: 20 de mayo | C22: X | E22: 13 | F22: * | G22: 1 | I22: 4 | K22: * INE/JGE89/2021 Primer Informe Trimestral de Actividades JGE enero a marzo 2021.
B23: 20 de mayo | D23: X | E23: 1
B24: 13 de junio | D24: X | E24: 10 | G24: 1 | I24: 1
B25: 24 de junio | C25: X | E25: 10 | F25: * | G25: 3 | I25: 2 | K25: * INE/JGE116/2021 por el que se aprueban los Lineamientos del Programa Especial de Retiro y Reconocimiento al personal de las Ramas Administrativa y del Servicio Profesional Electoral Nacional del INE, para el ejercicio 2021.
B26: 20 de julio | C26: X | E26: 25 | I26: 5 | J26: * | K26: * Informe Trimestral de Actividades de Oficialía Electoral (abril-junio 2021)
B27: 12 de agosto | D27: X | E27: 2
B28: 25 de agosto | C28: X | E28: 17 | F28: * | I28: 9 | K28: * INE/JGE155/2021 Segundo Informe Trimestral de Actividades JGE abril a junio 2021.
B29: 25 de agosto | D29: X | E29: 3 | F29: * | I29: 1 | K29: * INE/JGE172/2021 por el que se aprueba la Cartera Institucional de Proyectos del INE para el ejercicio fiscal de 2022, así como los indicadores del Instituto.
B30: 30 de agosto | D30: X | E30: 3 | F30: * | K30: * INE/JGE175/2021 por el que se emite la declaratoria de pérdida de registro del Partido Encuentro Solidario, por no haber obtenido por lo menos el 3% de la votación válida emitida en la elección federal ordinaria celebrada el 6 de junio de 2021. INE/JGE176/2021 por el que se emite la declaratoria de pérdida de registro del Partido Político Nacional denominado Redes Sociales Progresistas, por no haber obtenido por lo menos el 3% de la votación válida emitida en la elección federal ordinaria celebrada el 6 de junio de 2021. INE/JGE177/2021 por el que se emite la declaratoria de pérdida de registro del Partido Político Nacional denominado Fuerza Por México, por no haber obtenido por lo menos el 3% de la votación válida emitida en la elección federal ordinaria celebrada el 6 de junio de 2021.
B31: 29 de septiembre | C31: X | E31: 11 | I31: 3
B32: 29 de septiembre | D32: X | E32: 10
B33: 18 de octubre | D33: X | E33: 14 | G33: 3
B34: 25 de octubre | C34: X | E34: 14 | I34: 6
B35: 11 de noviembre | C35: X | E35: 11 | F35: * | G35: 1 | I35: 6 | K35: * INE/JGE230/2021 Tercer Informe Trimestral de Actividades JGE julio a septiembre de 2021.
B36: 24 de noviembre | D36: X | E36: 11 | G36: 1 | I36: 1
A37: 2021 | B37: 8 de diciembre | D37: X | E37: 1
B38: 13 de diciembre | C38: X | E38: 22 | I38: 3
B39: 17 de diciembre | D39: X | E39: 4
A41: Total | B41: =+C41+D41 -> 30 | C41: =COUNTIF(C10:C39,"X") -> 12 | D41: =COUNTIF(D10:D39,"X") -> 18 | E41: =SUM(E10:E39) -> 261 | G41: =SUM(G10:G39) -> 19 | I41: =SUM(I10:I39) -> 73 | L41: =SUM(E41:J41) -> 353
A43: % | B43: =+C43+D43 -> 1 | C43: =C41/B41 -> 0.4 | D43: =+D41/B41 -> 0.6 | E43: =+E41/L41 -> 0.73937677 | G43: =+G41/L41 -> 0.053824363 | I43: =+I41/L41 -> 0.20679887 | L43: =SUM(E43:J43) -> 1

Sheet 22
K3: Datos
K4: Estadísticos
K5: de la Junta General Ejecutiva
A7: Año | B7: Fecha | C7: Tipo de sesión | E7: Acuerdos | G7: Dictámenes y Resoluciones | I7: Informes | K7: Observaciones
C8: Ord. | D8: Ext.
A10: 2022 | B10: 6 de enero | D10: X | E10: 16 | G10: 1 | K10: INE/JGE03/2022 Auto de Desechamiento que emite la Junta General Ejecutiva del Instituto Nacional Electoral de los Recursos de Inconformidad INE/RI/10/2021 y acumulados. (Se contabiliza como resolución)
B11: 13 de enero | D11: X | E11: 3
B12: 20 de enero | C12: X | E12: 9 | G12: 3 | I12: 7 | K12: Plan de Implementación 2022 de la Estrategia Nacional de Cultura Cívica 2017 - 2023. (Se contabiliza como informe) INE/JGE32/2022 Auto de Desechamiento de la Junta General Ejecutiva del Instituto Nacional Electoral respecto del Recurso de Inconformidad INE/RI/23/2021, interpuesto en contra de la Resolución del 3 de noviembre de 2021, dictada por el Secretario Ejecutivo en el procedimiento laboral sancionador INE/DJ/HASL/PSL/6/2021. (Se contabiliza como resolución)
B13: 4 de febrero | D13: X | E13: 7
B14: 17 de febrero | C14: X | E14: 17 | F14: * | G14: 1 | I14: 10 | K14: * INE/JGE40/2022 Cuarto Informe Trimestral de Actividades de la Junta General Ejecutiva, correspondiente a los meses de octubre, noviembre y diciembre de 2021. * INE/JGE41/2022 Informe Anual de actividades de la Junta General Ejecutiva, correspondiente al año 2021.
B15: 7 de marzo | D15: X | E15: 4 | G15: 1
B16: 24 de marzo | C16: X | E16: 15 | G16: 7 | I16: 7 | K16: INE/JGE63/2022 Programa Anual de Trabajo 2022 del Comité de Planeación Institucional. (Se contabiliza como acuerdo) INE/JGE83/2022 Auto de Desechamiento de la Junta General Ejecutiva del Instituto Nacional Electoral del Recurso de Inconformidad INE/RI/20/2021, interpuesto contra el auto de 11 de agosto de 2021, dictado por la Dirección Jurídica, dentro del procedimiento laboral disciplinario INE/DJ/HASL/PLS/1/2021. (Se contabiliza como resolución)
B17: 24 de marzo | D17: X | I17: 1
B18: 25 de abril | C18: X | E18: 17 | I18: 6
B19: 18 de mayo | D19: X | E19: 6
B20: 26 de mayo | C20: X | E20: 11 | F20: * | G20: 1 | I20: 10 | K20: * INE/JGE108/2022 Primer Informe Trimestral de Actividades de la Junta General Ejecutiva, correspondiente a los meses de enero, febrero y marzo de 2022.
B21: 2 de junio | D21: X | E21: 1
B22: 17 de junio | D22: X | E22: 1 | G22: 1
B23: 27 de junio | C23: X | E23: 12 | G23: 3 | I23: 2
B24: 18 de julio | C24: X | E24: 11 | G24: 5 | I24: 5
B25: 19 de agosto | C25: X | E25: 11 | F25: * | I25: 6 | K25: * INE/JGE154/2022 Segunfo informe Trimestral de Actividades de la Junta General Ejecutiva, correspodiente a los meses de abril, mayo y junio.
B26: 19 de agosto | D26: X | E26: 2
B27: 31 de agosto | D27: X | E27: 12 | G27: 3
B28: 19 de septiembre | C28: X | E28: 3 | G28: 1 | I28: 5
B29: 28 de septiembre | D29: X | E29: 6
A30: 2022 | B30: 13 de octubre | C30: X | E30: 11 | G30: 6 | I30: 5 | K30: INE/JGE197/2022 Auto de Desechamiento de la Junta General Ejecutiva del Instituto Nacional Electoral respecto del Recurso de Inconformidad registrado bajo el número de expediente INE/RI/SPEN/34/2022. (Se contabiliza como resolución) INE/JGE200/2022 Auto de Desechamiento de la Junta General Ejecutiva del Instituto Nacional Electoral del Recurso de Inconformidad INE/RI/33/2022, interpuesto en contra de del oficio INE/JLETAB/VE/462/2022 del 13 de junio de 2022, expedido por la Vocal Ejecutiva de la Junta Local Ejecutiva en el estado de Tabasco. (Se contabiliza como resolución)
B31: 4 de noviembre | D31: X | E31: 7 | G31: 3 | K31: INE/JGE213/2022 Auto de Desechamiento de la Junta General Ejecutiva del Instituto Nacional Electoral respecto del Recurso de Inconformidad presentado en contra del auto de inicio del procedimiento laboral sancionador identificado con el número de expediente INE/DJ/PLS/354/2021. (Se contabiliza como resolución) INE/JGE218/2022 Auto de Desechamiento que emite la Junta General Ejecutiva del Instituto Nacional Electoral respecto del recurso de inconformidad INE/RI/SPEN/31/2022. (Se contabiliza como resolución)
B32: 18 de noviembre | D32: X | E32: 10
B33: 24 de noviembre | C33: X | E33: 21 | F33: * | G33: 2 | I33: 7 | K33: * INE/JGE229/2022 Tercer informe Trimestral de Actividades de la Junta General Ejecutiva, correspodiente a los meses de julio, agosto y septiembre.
B34: 24 de noviembre | D34: X | E34: 1 | G34: 1
B35: 12 de diciembre | C35: X | E35: 21 | G35: 1 | I35: 2
B36: 12 de diciembre | D36: X | E36: 1
B37: 15 de diciembre | D37: X | E37: 3 | G37: 2 | K37: Intervención del Ing. René Miranda Jaimes, Director Ejecutivo del Registro Federal de Electores. (No se contabiliza) Intervención del Lic. Manuel Carrillo Poblano, Coordinador de Asuntos Internacionales. (No se contabiliza)
A39: Total | B39: =+C39+D39 -> 28 | C39: =COUNTIF(C10:C37,"X") -> 12 | D39: =COUNTIF(D10:D37,"X") -> 16 | E39: =SUM(E10:E37) -> 239 | G39: =SUM(G10:G37) -> 42 | I39: =SUM(I10:I37) -> 73 | L39: =SUM(E39:J39) -> 354
A41: % | B41: =+C41+D41 -> 1 | C41: =C39/B39 -> 0.42857143 | D41: =+D39/B39 -> 0.57142857 | E41: =+E39/L39 -> 0.67514124 | G41: =+G39/L39 -> 0.11864407 | I41: =+I39/L39 -> 0.20621469 | L41: =SUM(E41:J41) -> 1

Sheet 23
K3: Datos
K4: Estadísticos
K5: de la Junta General Ejecutiva
A7: Año | B7: Fecha | C7: Tipo de sesión | E7: Acuerdos | G7: Dictámenes y Resoluciones | I7: Informes | K7: Observaciones
C8: Ord. | D8: Ext.
A10: 2023 | B10: 20 de enero | C10: X | E10: 16 | G10: 2 | I10: 7 | K10: Plan Anual de Implementación 2023 de la Estrategia Nacional de Cultura Cívica 2017-202 (Se contabiliza como informe)
B11: 20 de enero | D11: X | E11: 2
B12: 14 de febrero | C12: X | E12: 10 | G12: 3 | I12: 9 | K12: INE/JGE21/2023 Programa Anual de Trabajo 2023 del Comité de Planeación Institucional. (Se contabiliza como acuerdo) INE/JGE22/2023 Cuarto Informe Trimestral de Actividades de la Junta General Ejecutiva, correspondiente a los meses de octubre, noviembre y diciembre de 2022. (Se contabiliza como acuerdo) INE/JGE23/2023 Informe Anual de actividades de la Junta General Ejecutiva, correspondiente al año 2022. (Se contabiliza como acuerdo)
B13: 21 de febrero | D13: X | E13: 5 | G13: 4 | I13: 1
B14: 24 de febrero | D14: X | E14: 6 | G14: 1 | I14: 1
B15: 27 de marzo | C15: X | E15: 10 | G15: 9 | I15: 10 | K15: INE/JGE51/2023 Auto de Desechamiento […] apartado 3.3 (Se contabiliza como resolución) INE/JGE55/2023 al INE/JGE59/2023 Autos de Desechamiento […] apartados 5.1.1 al 5.1.5 (Se contabiliza como resoluciones) INE/JGE67/2023 Auto de Desechamiento […] apartado 8.5 (Se contabiliza como resolución)
B16: 27 de marzo | D16: X | E16: 1 | G16: 3 | K16: INE/JGE71/2023 Auto de Desechamiento […] apartado 2.1 (Se contabiliza como resolución)
B17: 27 de abril | C17: X | E17: 15 | G17: 4 | I17: 6 | K17: INE/JGE73/2023 Auto de Desechamiento […] apartado 3.1 (Se contabiliza como resolución) INE/JGE74/2023 Auto de Desechamiento […] apartado 4.1 (Se contabiliza como resolución)
B18: 17 de mayo | D18: X | E18: 3
B19: 26 de mayo | C19: X | E19: 9 | G19: 2 | I19: 7 | K19: INE/JGE95/2023 Primer Informe Trimestral de Actividades de la Junta General Ejecutiva, correspondiente a los meses de enero, febrero y marzo de 2023. (Se contabiliza como acuerdo)
B20: 15 de junio | C20: X | E20: 4 | G20: 3 | I20: 2 | K20: INE/JGE106/2023 Auto de Desechamiento […] apartado 2.2 (Se contabiliza como resolución)
B21: 12 de julio | C21: X | E21: 9 | G21: 7 | I21: 6 | K21: INE/JGE124/2023 Auto de Desechamiento […] apartado 7.1 (Se contabiliza como resolución)
B22: 16 de agosto | D22: X | E22: 8 | G22: 3 | I22: 2 | K22: INE/JGE135/2023 Auto de Desechamiento […] apartado 3.3 (Se contabiliza como resolución)
B23: 22 de agosto | C23: X | E23: 9 | G23: 3 | I23: 3 | K23: INE/JGE140/2023 Segundo Informe Trimestral de Actividades de la Junta General Ejecutiva, correspondiente a los meses de abril, mayo y junio de 2023. (Se contabiliza como acuerdo)
B24: 31 de agosto | D24: X | E24: 5 | G24: 2 | I24: 1
B25: 18 de septiembre | D25: X | E25: 2 | G25: 4
B26: 29 de septiembre | C26: X | E26: 7 | G26: 4 | I26: 1
B27: 11 de octubre | D27: X | E27: 8 | G27: 1 | I27: 1
B28: 23 de octubre | C28: X | E28: 7 | G28: 1 | I28: 5
B29: 6 de noviembre | D29: X | E29: 2 | G29: 2
B30: 13 de noviembre | D30: X | E30: 1
A31: 2023 | B31: 21 de noviembre | C31: X | E31: 9 | G31: 6 | I31: 6 | K31: INE/JGE207/2023 Tercer informe trimestral de actividades de la Junta General Ejecutiva, correspondiente a los meses de julio, agosto y septiembre de 2023. (Se contabiliza como acuerdo) 'INE/JGE208/2023 Auto de Desechamiento […] apartado 7.1 (Se contabiliza como resolución)
B32: 11 de diciembre | C32: X | E32: 10 | G32: 5 | I32: 3
B33: 18 de diciembre | D33: X | E33: 2
A35: Total | B35: =+C35+D35 -> 24 | C35: =COUNTIF(C10:C33,"X") -> 12 | D35: =COUNTIF(D10:D33,"X") -> 12 | E35: =SUM(E10:E33) -> 160 | G35: =SUM(G10:G33) -> 69 | I35: =SUM(I10:I33) -> 71 | K35: Total de números alfanuméricos asignados: 229 que corresponden a Acuerdos, Dictámenes y Resoluciones. | L35: =SUM(E35:J35) -> 300
A37: % | B37: =+C37+D37 -> 1 | C37: =C35/B35 -> 0.5 | D37: =+D35/B35 -> 0.5 | E37: =+E35/L35 -> 0.53333333 | G37: =+G35/L35 -> 0.23 | I37: =+I35/L35 -> 0.23666667 | L37: =SUM(E37:J37) -> 1

Sheet 24
K3: Datos
K4: Estadísticos
K5: de la Junta General Ejecutiva
A7: Año | B7: Fecha | C7: Tipo de sesión | E7: Acuerdos | G7: Dictámenes y Resoluciones | I7: Informes | K7: Observaciones
C8: Ord. | D8: Ext.
A10: 2024 | B10: 17 de enero | C10: X | E10: 2 | G10: 3 | I10: 5
B11: 29 de enero | D11: X | E11: 6 | G11: 2
B12: 14 de febrero | D12: X | E12: 4 | G12: 2 | I12: 4 | K12: INE/JGE16/2024 Auto de Desechamiento […] apartado 3.6 (Se contabiliza como resolución)
B13: 22 de febrero | C13: X | E13: 8 | G13: 2 | I13: 4 | K13: INE/JGE23/2024 Auto de Desechamiento […] apartado 2.4 (Se contabiliza como resolución) Proyecto de Resolución respecto del Recurso de Inconformidad INE/DJ/HASL/PLS/208/2022. Apartado 5.1 (Se pospuso su discusión, no se contabiliza) INE/JGE27/2024 Cuarto informe trimestral de actividades de la Junta General Ejecutiva, correspondiente a los meses de octubre, noviembre y diciembre de 2023. (Se contabiliza como acuerdo) INE/JGE28/2024 Informe anual de actividades de la Junta General Ejecutiva 2023. (Se contabiliza como acuerdo)
B14: 12 de marzo | D14: X | E14: 5 | G14: 1 | I14: 1
B15: 25 de marzo | C15: X | E15: 4 | G15: 1 | I15: 2
B16: 3 de abril | D16: X | E16: 3
B17: 9 de abril | D17: X | E17: 2 | G17: 1 | K17: INE/JGE44/2024 Primer informe trimestral de actividades de la Junta General Ejecutiva, correspondiente a los meses de enero, febrero y marzo de 2024. (Se contabiliza como acuerdo)
B18: 25 de abril | C18: X | E18: 5 | G18: 3 | I18: 5
B19: 2 de mayo | D19: X | K19: Solo se aprobó el Proyecto de Acta de la sesión extraordinaria llevada a cabo el 29 de enero de 2024
B20: 2 de mayo | D20: X | E20: 5 | G20: 2 | I20: 2
B21: 14 de mayo | C21: X | E21: 9 | G21: 4 | I21: 8
B22: 22 de mayo | D22: X | E22: 3
B23: 24 de mayo | D23: X | E23: 2
B24: 7 de junio | D24: X | E24: 1
B25: 13 de junio | D25: X | G25: 2
B26: 17 de junio | D26: X | E26: 1
B27: 24 de junio | C27: X | E27: 1 | G27: 2 | I27: 1
B28: 4 de julio | D28: X | E28: 2 | G28: 2
B29: 19 de julio | D29: X | E29: 1
B30: 24 de julio | C30: X | E30: 2 | G30: 1 | I30: 4 | K30: INE/JGE93/2024 Segundo informe trimestral de actividades de la Junta General Ejecutiva, correspondiente a los meses de abril, mayo y junio de 2024. (Se contabiliza como acuerdo)
B31: 1 de agosto | D31: X | E31: 4
B32: 15 de agosto | D32: X | E32: 1
B33: 21 de agosto | C33: X | E33: 3 | G33: 2 | I33: 7
A34: 2024 | B34: 30 de agosto | D34: X | E34: 9 | G34: 3
B35: 2 de septiembre | D35: X | E35: 3 | I35: 1
B36: 18 de septiembre | C36: X | E36: 2 | G36: 3 | I36: 1
B37: 30 de septiembre | D37: X | E37: 5 | G37: 3 | I37: 2
B38: 15 de octubre | D38: X | E38: 2
B39: 21 de octubre | C39: X | E39: 3 | G39: 1 | I39: 4 | K39: INE/JGE135/2024 Tercer informe trimestral de la Junta General Ejecutiva correspondiente a los meses de julio, agosto y septiembre de 2024.(Se contabiliza como acuerdo)
B40: 28 de octubre | D40: X | E40: 3
B41: 1 de noviembre | D41: X | E41: 1
B42: 14 de noviembre | D42: X | E42: 12 | G42: 3 | K42: INE/JGE151/2024 Auto de Desechamiento […] apartado 6.2 (Se contabiliza como resolución)
B43: 20 de noviembre | C43: X | E43: 1 | G43: 2 | I43: 6 | K43: INE/JGE160/2024 Auto de Desechamiento […] apartado 7.1 (Se contabiliza como resolución)
B44: 20 de noviembre | D44: X | E44: 2
B45: 22 de noviembre | D45: X | E45: 1 | I45: 1 | K45: Presentación del Programa de Capacitación Electoral […] (Se contabiliza como informe)
B46: 9 de diciembre | D46: X | E46: 6 | G46: 1 | I46: 1 | K46: Presentación del estudio de factibilidad para evaluar el Plan Estratégico Institucional. (Se contabiliza como informe)
B47: 11 de diciembre | D47: X | E47: 8
B48: 18 de diciembre | C48: X | E48: 2 | G48: 7 | I48: 2 | K48: INE/JGE181/2024 Auto de Desechamiento […] apartado 2.2 (Se contabiliza como resolución) INE/JGE184/2024 Auto de Desechamiento […] apartado 3.3 (Se contabiliza como resolución)
B49: 26 de diciembre | D49: X | E49: 5
B50: 28 de diciembre | D50: X | E50: 1
B51: 29 de diciembre | D51: X | E51: 2
A53: Total | B53: =+C53+D53 -> 42 | C53: =COUNTIF(C10:C51,"X") -> 12 | D53: =COUNTIF(D10:D51,"X") -> 30 | E53: =SUM(E10:E51) -> 142 | G53: =SUM(G10:G51) -> 53 | I53: =SUM(I10:I51) -> 61 | K53: Total de números alfanuméricos asignados: 195 que corresponden a Acuerdos, Dictámenes y Resoluciones. | L53: =SUM(E53:H53) -> 195
A55: % | B55: =+C55+D55 -> 1 | C55: =C53/B53 -> 0.28571429 | D55: =+D53/B53 -> 0.71428571 | E55: =+E53/L53 -> 0.72820513 | G55: =+G53/L53 -> 0.27179487 | I55: =+I53/L53 -> 0.31282051 | L55: =SUM(E55:J55) -> 1.3128205

Sheet 25
K3: Datos
K4: Estadísticos
K5: de la Junta General Ejecutiva
A7: Año | B7: Fecha | C7: Tipo de sesión | E7: Acuerdos | G7: Dictámenes y Resoluciones | I7: Informes | K7: Observaciones
C8: Ord. | D8: Ext.
A10: 2025 | B10: 14 de enero | D10: X | E10: 1 | I10: 1
B11: 17 de enero | D11: X | E11: 2
B12: 27 de enero | C12: X | E12: 5 | G12: 6 | I12: 6 | K12: INE/JGE07/2025 Cuarto informe trimestral de la Junta General Ejecutiva correspondiente a los meses de octubre, noviembre y diciembre de 2024.(Se contabiliza como acuerdo) INE/JGE08/2025 Informe anual de actividades de la Junta General Ejecutiva 2024. (Se contabiliza como acuerdo)
B13: 8 de febrero | D13: X | E13: 1
B14: 15 de febrero | D14: X | E14: 9 | G14: 6
B15: 26 de febrero | C15: X | G15: 1 | I15: 6
B16: 26 de febrero | D16: X | E16: 5 | I16: 5
B17: 8 de marzo | D17: X | E17: 5
B18: 19 de marzo | C18: X | E18: 5 | G18: 1 | I18: 2
B19: 31 de marzo | D19: X | E19: 4 | G19: 3 | I19: 1 | K19: INE/JGE49/2025 Auto de Desechamiento […] apartado 1.2 (Se contabiliza como resolución) 'INE/JGE50/2025 Auto de Desechamiento […] apartado 2.1 (Se contabiliza como resolución)
B20: 10 de abril | D20: X | E20: 1
B21: 14 de abril | D21: X | E21: 2 | G21: 6 | I21: 2 | K21: INE/JGE58/2025 Auto de Desechamiento […] apartado 4.1 (Se contabiliza como resolución) 'INE/JGE61/2025 Auto de Desechamiento […] apartado 6.2 (Se contabiliza como resolución)
B22: 16 de abril | D22: X | E22: 3
B23: 23 de abril | C23: X | I23: 2
B24: 23 de abril | D24: X | E24: 9 | G24: 1 | K24: INE/JGE75/2025 Auto de Desechamiento […] apartado 2.1 (Se contabiliza como resolución)
B25: 26 de abril | D25: X | E25: 6 | I25: 2 | K25: INE/JGE78/2025 Primer informe trimestral de actividades de la Junta General Ejecutiva, correspondiente a los meses de enero, febrero y marzo de 2025. (Se contabiliza como acuerdo)
B26: 30 de abril | D26: X | E26: 6 | G26: 3 | I26: 1 | K26: INE/JGE86/2025 Auto de Desechamiento […] apartado 2.4 (Se contabiliza como resolución)
B27: 7 de mayo | D27: X | E27: 4 | G27: 1 | K27: INE/JGE95/2025 Auto de Desechamiento […] apartado 3.1 (Se contabiliza como resolución)
B28: 9 de mayo | D28: X | E28: 3 | I28: 1
B29: 21 de mayo | C29: X | E29: 4 | G29: 3 | I29: 6 | K29: INE/JGE100/2025 Auto de Desechamiento […] apartado 2.2 (Se contabiliza como resolución) INE/JGE101/2025 Auto de Desechamiento […] apartado 2.3 (Se contabiliza como resolución) INE/JGE103/2025 Auto de Desechamiento […] apartado 3.2 (Se contabiliza como resolución)
B30: 21 de mayo | D30: X | E30: 1
B31: 23 de mayo | D31: X | E31: 3 | G31: 1
B32: 24 de mayo | D32: X | E32: 1
B33: 28 de mayo | D33: X | E33: 1 | I33: 2
B34: 1 al 12 de junio | D34: X | E34: 1 | K34: Instalación permanente de la Junta General Ejecutiva para tratar asuntos relativos al desarrollo de la Jornada Electoral y Cómputos del Proceso Electoral Extraordinario del Poder Judicial de la Federación 2024-2025.
B35: 6 de junio | D35: X | E35: 2 | G35: 2 | I35: 1 | K35: INE/JGE117/2025 Auto de Desechamiento […] apartado 2.3 (Se contabiliza como resolución)
B36: 18 de junio | C36: X | E36: 1 | G36: 6 | I36: 4 | K36: INE/JGE120/2025 Auto de Desechamiento […] apartado 3.3 (Se contabiliza como resolución) INE/JGE125/2025 Auto de Desechamiento […] apartado 9.1 (Se contabiliza como resolución)
A37: 2025 | B37: 24 de junio | D37: X | G37: 1
B38: 27 de junio | D38: X | E38: 3
B39: 30 de junio | D39: X | E39: 3
B40: 9 de julio | D40: X | E40: 3 | G40: 2 | K40: INE/JGE133/2025 Auto de Desechamiento […] apartado 1.1 (Se contabiliza como resolución) INE/JGE134/2025 Auto de Desechamiento […] apartado 2.1 (Se contabiliza como resolución)
B41: 15 de julio | D41: X | E41: 6 | G41: 1 | K41: Se presentó el “Programa de Trabajo de Control Interno Institucional 2025-2026”. No cuenta como informe.
B42: 16 de julio | C42: X | E42: 2 | I42: 3 | K42: INE/JGE145/2025 Segundo informe trimestral de actividades de la Junta General Ejecutiva, correspondiente a los meses de abril, mayo y junio de 2025. (Se contabiliza como acuerdo)
B43: 23 de julio | D43: X | E43: 7 | I43: 2
B44: 31 de julio | D44: X | E44: 1
B45: 6 de agosto | D45: X | E45: 4 | G45: 1
B46: 15 de agosto | D46: X | E46: 9 | G46: 3 | K46: INE/JGE165/2025 Auto de Desechamiento […] apartado 4.4 (Se contabiliza como resolución)
B47: 15 de agosto | D47: X | E47: 1
B48: 20 de agosto | C48: X | E48: 2 | G48: 1 | I48: 8
B49: 27 de agosto | D49: X | E49: 11 | G49: 1 | I49: 2
B50: 27 de agosto | D50: X | E50: 3
B51: 24 de septiembre | C51: X | G51: 7 | I51: 2 | K51: INE/JGE192/2025 Auto de Desechamiento […] apartado 2.2 (Se contabiliza como resolución) INE/JGE193/2025 Auto de Desechamiento […] apartado 3.1 (Se contabiliza como resolución) INE/JGE194/2025 Auto de Desechamiento […] apartado 3.2 (Se contabiliza como resolución)
B52: 30 de septiembre | D52: X | E52: 2
B53: 6 de octubre | D53: X | E53: 5
B54: 10 de octubre | D54: X | E54: 1
B55: 15 de octubre | C55: X | E55: 2 | G55: 3 | I55: 8 | K55: INE/JGE207/2025 Tercer informe trimestral de actividades de la Junta General Ejecutiva, correspondiente a los meses de Julio, Agosto y Septiembre de 2025. (Se contabiliza como acuerdo) INE/JGE208/2025 Auto de Desechamiento […] apartado 5.1 (Se contabiliza como resolución)
B56: 15 de octubre | D56: X | E56: 1
B57: 16 de octubre | D57: X | E57: 1 | G57: 1 | K57: INE/JGE213/2025 Auto de Sobreseimiento […] apartado 2.1 (Se contabiliza como resolución)
B58: 17 de octubre | D58: X | E58: 6 | I58: 1
B59: 31 de octubre | D59: X | E59: 1
B60: 3 de noviembre | D60: X | E60: 5
B61: 12 de noviembre | D61: X | E61: 5 | G61: 2 | K61: INE/JGE230/2025 Desechamiento […] apartado 3.1 (Se contabiliza como resolución) INE/JGE231/2025 Auto de Desechamiento […] apartado 4.1 (Se contabiliza como resolución)
A62: 2025 | B62: 14 de noviembre | D62: X | E62: 1
B63: 26 de noviembre | C63: X | E63: 7 | G63: 3 | I63: 8 | K63: INE/JGE234/2025 Auto de Desechamiento […] apartado 2.1 (Se contabiliza como resolución) INE/JGE235/2025 Auto de Desechamiento […] apartado 2.2 (Se contabiliza como resolución)
B64: 2 de diciembre | D64: X | E64: 1
B65: 10 de diciembre | D65: X | E65: 8 | G65: 2 | I65: 1
B66: 17 de diciembre | C66: X | E66: 2 | G66: 5 | I66: 2 | K66: INE/JGE256/2025 Auto de Desechamiento […] apartado 2.2 (Se contabiliza como resolución) INE/JGE259/2025 Auto de Desechamiento […] apartado 3.3 (Se contabiliza como resolución) INE/JGE260/2025 Auto de Desechamiento […] apartado 3.4 (Se contabiliza como resolución)
B67: 19 de diciembre | D67: X | E67: 6
A69: Total | B69: =+C69+D69 -> 58 | C69: =COUNTIF(C10:C67,"X") -> 12 | D69: =COUNTIF(D10:D67,"X") -> 46 | E69: =SUM(E10:E67) -> 194 | G69: =SUM(G10:G67) -> 73 | I69: =SUM(I10:I67) -> 79 | K69: Total de números alfanuméricos asignados: 267 que corresponden a Acuerdos, Dictámenes y Resoluciones. | L69: =SUM(E69:H69) -> 267
A71: % | B71: =+C71+D71 -> 1 | C71: =C69/B69 -> 0.20689655 | D71: =+D69/B69 -> 0.79310345 | E71: =+E69/L69 -> 0.72659176 | G71: =+G69/L69 -> 0.27340824 | I71: =+I69/L69 -> 0.29588015 | L71: =SUM(E71:J71) -> 1.2958801

Sheet 26
K3: Datos
K4: Estadísticos
K5: de la Junta General Ejecutiva
A7: Año | B7: Fecha | C7: Tipo de sesión | E7: Acuerdos | G7: Dictámenes y Resoluciones | I7: Informes | K7: Observaciones
C8: Ord. | D8: Ext.
A10: 2026 | B10: 12 de enero | D10: X | E10: 1 | G10: 4 | K10: INE/JGE01/2026 Auto de Desechamiento […] apartado 1.1 (Se contabiliza como resolución)
B11: 21 de enero | C11: X | E11: 2 | G11: 4 | I11: 6
B12: 28 de enero | D12: X | E12: 12 | G12: 2 | K12: INE/JGE12/2026 Auto de Desechamiento […] apartado 2.1 (Se contabiliza como resolución) INE/JGE18/2026 Auto de Desechamiento […] apartado 4.1 (Se contabiliza como resolución)
B13: 11 de febrero | D13: X | E13: 8 | G13: 1
B14: 13 de febrero | D14: X | E14: 1
B15: 25 de febrero | C15: X | E15: 9 | G15: 5 | I15: 9 | K15: INE/JGE41/2026 Cuarto informe trimestral de Actividades de la Junta General Ejecutiva correspondiente a los meses de octubre, noviembre y diciembre de 2025.(Se contabiliza como acuerdo) INE/JGE42/2026 Informe anual de actividades de la Junta General Ejecutiva 2025. (Se contabiliza como acuerdo) INE/JGE48/2026 Auto de Desechamiento […] apartado 9.5 (Se contabiliza como resolución)
B16: 25 de febrero | D16: X | E16: 1 | I16: 1
B17: 11 de marzo | D17: X | E17: 6 | G17: 3 | K17: INE/JGE55/2026 Auto de Sobreseimiento […] apartado 2.2 (Se contabiliza como resolución)
B18: 11 de marzo | D18: X | E18: 2
B19: 25 de marzo | C19: X | E19: 7 | G19: 4 | I19: 5 | K19: INE/JGE64/2026 Auto de Desechamiento […] apartado 3.6 (Se contabiliza como resolución)
B20: 25 de marzo | D20: X | E20: 2
B21: 8 de abril | D21: X | E21: 2 | G21: 3 | I21: 1
B22: 27 de abril | D22: X | E22: 2
B23: 28 de abril | C23: X | E23: 9 | G23: 8 | I23: 4 | K23: INE/JGE83/2026 Auto de Desechamiento […] apartado 2.1 (Se contabiliza como resolución) INE/JGE85/2026 Auto de Desechamiento […] apartado 4.2 (Se contabiliza como resolución) INE/JGE94/2026 Primer informe trimestral de Actividades de la Junta General Ejecutiva correspondiente a los meses de enero, febrero y marzo de 2026.(Se contabiliza como acuerdo)
B24: 6 de mayo | D24: X | E24: 4
B25: 20 de mayo | C25: X | G25: 2 | I25: 5 | K25: INE/JGE103/2026 Auto de Desechamiento […] apartado 3.1 (Se contabiliza como resolución)
B26: 20 de mayo | D26: X | E26: 1
A27: 2026 | B27: 26 de mayo | D27: X | E27: 3 | I27: 1
B28: 27 de mayo | D28: X | G28: 1 | I28: 1
B29: 3 de junio | D29: X | E29: 2 | G29: 3 | I29: 1 | K29: INE/JGE113/2026 Auto de Desechamiento […] apartado 5.1 (Se contabiliza como resolución)
B30: 17 de junio | C30: X | E30: 5 | I30: 1
B31: 19 de junio | D31: X | E31: 2
B32: 30 de junio | D32: X | E32: 1
B33: 8 de julio | D33: X | E33: 3 | G33: 2 | K33: INE/JGE125/2026 Auto de Desechamiento […] apartado 3.1 (Se contabiliza como resolución)
B34: 8 de julio | D34: X | E34: 1 | I34: 1
B35: 27 de julio | C35: X | E35: 4 | G35: 7 | I35: 3 | K35: INE/JGE139/2026 Segundo informe trimestral de Actividades de la Junta General Ejecutiva correspondiente a los meses de abril, mayo y junio de 2026.(Se contabiliza como acuerdo)
B36: 27 de julio | D36: X | E36: 4
B37: 31 de julio | D37: X | E37: 6
B38: 31 de julio | D38: X | E38: 1
B39: 26 de agosto | C39: X | E39: 4 | G39: 3 | I39: 7 | K39: INE/JGE151/2026 Auto de Sobreseimiento […] apartado 2.1 (Se contabiliza como resolución)
B40: 26 de agosto | D40: X | E40: 3
B41: 2 de septiembre | D41: X | E41: 4
B42: 9 de septiembre | D42: X | E42: 4
B43: 9 de septiembre | D43: X | E43: 1
B44: 14 de septiembre | D44: X | E44: 1
B45: 21 de septiembre | D45: X | E45: 4
B46: 23 de septiembre | C46: X | E46: 6 | G46: 3 | I46: 2
A47: 2026 | B47: 23 de septiembre | D47: X | G47: 1
B48: 24 de septiembre | D48: X | E48: 1
B49: 30 de septiembre | D49: X | E49: 5 | I49: 1 | K49: Programa de Capacitación Electoral que forma parte de la Estrategia de Capacitación y Asistencia Electoral 2026-2027. (Se contabiliza como informe)
A52: Total | B52: =+C52+D52 -> 40 | C52: =COUNTIF(C10:C50,"X") -> 9 | D52: =COUNTIF(D10:D50,"X") -> 31 | E52: =SUM(E10:E50) -> 134 | G52: =SUM(G10:G50) -> 56 | I52: =SUM(I10:I50) -> 49 | K52: Total de números alfanuméricos asignados: 190 que corresponden a Acuerdos, Dictámenes y Resoluciones. | L52: =SUM(E52:H52) -> 190
A54: % | B54: =+C54+D54 -> 1 | C54: =C52/B52 -> 0.225 | D54: =+D52/B52 -> 0.775 | E54: =+E52/L52 -> 0.70526316 | G54: =+G52/L52 -> 0.29473684 | I54: =+I52/L52 -> 0.25789474 | L54: =SUM(E54:J54) -> 1.2578947

Sheet concentrado
K3: Datos
K4: Estadísticos
K5: de la Junta General Ejecutiva
A7: Año | B7: Total de sesiones | C7: Tipo de sesión | E7: Acuerdos | G7: Dictámenes y Resoluciones | I7: Informes | K7: Observaciones
C8: Ord. | D8: Ext.
A10: 2014 | B10: =+'14'!B36 -> 24 | C10: =+'14'!C36 -> 9 | D10: =+'14'!D36 -> 15 | E10: ='14'!E36:F36 -> 123 | G10: ='14'!G36 -> 14 | I10: ='14'!I36 -> 44
A12: 2015 | B12: ='15'!B53 -> 28 | C12: ='15'!C53 -> 12 | D12: ='15'!D53 -> 16 | E12: ='15'!E53:F53 -> 177 | G12: ='15'!G53 -> 16 | I12: ='15'!I53 -> 56
A14: 2016 | B14: ='16'!B55 -> 44 | C14: ='16'!C55 -> 12 | D14: ='16'!D55 -> 32 | E14: ='16'!E55:F55 -> 322 | G14: ='16'!G55 -> 30 | I14: ='16'!I55 -> 54
A16: 2017 | B16: ='17'!B47 -> 36 | C16: ='17'!C47 -> 12 | D16: ='17'!D47 -> 24 | E16: ='17'!E47:F47 -> 211 | G16: ='17'!G47 -> 21 | I16: ='17'!I47 -> 66
A18: 2018 | B18: ='18'!B42 -> 31 | C18: ='18'!C42 -> 12 | D18: ='18'!D42 -> 19 | E18: ='18'!E42:F42 -> 216 | G18: ='18'!G42 -> 33 | I18: ='18'!I42 -> 77
A20: 2019 | B20: ='19'!B33 -> 22 | C20: ='19'!C33 -> 12 | D20: ='19'!D33 -> 10 | E20: ='19'!E33:F33 -> 225 | G20: ='19'!G33 -> 20 | I20: ='19'!I33 -> 82
A22: 2020 | B22: ='20'!B40 -> 29 | C22: ='20'!C40 -> 7 | D22: ='20'!D40 -> 22 | E22: ='20'!E40:F40 -> 207 | G22: ='20'!G40 -> 20 | I22: ='20'!I40 -> 65
A24: 2021 | B24: ='21'!B41 -> 30 | C24: ='21'!C41 -> 12 | D24: ='21'!D41 -> 18 | E24: ='21'!E41:F41 -> 261 | G24: ='21'!G41 -> 19 | I24: ='21'!I41 -> 73
A26: 2022 | B26: =+C26+D26 -> 28 | C26: ='22'!C39 -> 12 | D26: ='22'!D39 -> 16 | E26: ='22'!E39:F39 -> 239 | G26: ='22'!G39:H39 -> 42 | I26: ='22'!I39:J39 -> 73
A28: 2023 | B28: =+C28+D28 -> 24 | C28: ='23'!C35 -> 12 | D28: ='23'!D35 -> 12 | E28: ='23'!E35 -> 160 | G28: ='23'!G35 -> 69 | I28: ='23'!I35 -> 71
A30: 2024 | B30: =+C30+D30 -> 42 | C30: ='24'!C53 -> 12 | D30: ='24'!D53 -> 30 | E30: ='24'!E53 -> 142 | G30: ='24'!G53 -> 53 | I30: ='24'!I53 -> 61
A32: 2025 | B32: =+C32+D32 -> 58 | C32: ='[1]25'!C69 -> 12 | D32: ='[1]25'!D69 -> 46 | E32: ='[1]25'!E69 -> 194 | G32: ='[1]25'!G69 -> 73 | I32: ='[1]25'!I69 -> 79
A34: 2026 | B34: =+C34+D34 -> 40 | C34: ='26'!C52 -> 9 | D34: ='26'!D52 -> 31 | E34: ='26'!E52 -> 134 | G34: ='26'!G52 -> 56 | I34: ='26'!I52 -> 49
A36: Total | B36: =+C36+D36 -> 436 | C36: =SUM(C10:C34) -> 145 | D36: =SUM(D10:D34) -> 291 | E36: =SUM(E10:F34) -> 2611 | G36: =SUM(G10:H34) -> 466 | I36: =SUM(I10:J34) -> 850 | L36: =SUM(E36:I36) -> 3927
A39: % | B39: =+C39+D39 -> 1 | C39: =C36/B36 -> 0.33256881 | D39: =+D36/B36 -> 0.66743119 | E39: =+E36/L36 -> 0.66488414 | G39: =+G36/L36 -> 0.11866565 | I39: =+I36/L36 -> 0.21645022 | L39: =SUM(E39:J39) -> 1

Sheet Gráfica (tipo sesión)
F16: Ordinaria | G16: =concentrado!C36 -> 145
F17: Extraordinaria | G17: =concentrado!D36 -> 291
C31: 2 0 1 4 | G31: 2 0 1 5 | K31: 2 0 1 6 | O31: 2 0 1 7 | S31: 2 0 1 8 | W31: 2 0 1 9 | AA31: 2 0 2 0 | AE31: 2 0 2 1 | AI31: 2022 | AM31: 2023 | AQ31: 2024 | AU31: 2025 | AY31: 2026
C32: Ord. | E32: Ext. | G32: Ord. | I32: Ext. | K32: Ord. | M32: Ext. | O32: Ord. | Q32: Ext. | S32: Ord. | U32: Ext. | W32: Ord. | Y32: Ext. | AA32: Ord. | AC32: Ext. | AE32: Ord. | AG32: Ext. | AI32: Ord. | AK32: Ext. | AM32: Ord. | AO32: Ext. | AQ32: Ord. | AS32: Ext. | AU32: Ord. | AW32: Ext. | AY32: Ord. | BA32: Ext.
C33: =concentrado!C10 -> 9 | E33: =concentrado!D10 -> 15 | G33: =concentrado!C12 -> 12 | I33: =concentrado!D12 -> 16 | K33: =concentrado!C14 -> 12 | M33: =concentrado!D14 -> 32 | O33: =concentrado!C16 -> 12 | Q33: =concentrado!D16 -> 24 | S33: =concentrado!C18 -> 12 | U33: =concentrado!D18 -> 19 | W33: =concentrado!C20 -> 12 | Y33: =concentrado!D20 -> 10 | AA33: =concentrado!C22 -> 7 | AC33: =concentrado!D22 -> 22 | AE33: =concentrado!C24 -> 12 | AG33: =concentrado!D24 -> 18 | AI33: =concentrado!C26 -> 12 | AK33: =concentrado!D26 -> 16 | AM33: =concentrado!C28 -> 12 | AO33: =concentrado!D28 -> 12 | AQ33: =concentrado!C30 -> 12 | AS33: =concentrado!D30 -> 30 | AU33: =concentrado!C32 -> 12 | AW33: =concentrado!D32 -> 46 | AY33: =concentrado!C34 -> 9 | BA33: =concentrado!D34 -> 31
AY35: T o t a l
BA36: Ordinarias | BF36: Extraordinarias
BA37: =concentrado!C36 -> 145 | BF37: =concentrado!D36 -> 291

Sheet Gráfica (tipo documento)
J18: Acuerdos | K18: =concentrado!E36 -> 2611
J19: Dictámenes y Resoluciones | K19: =concentrado!G36 -> 466
J20: Informes | K20: =concentrado!I36 -> 850
F32: Documento | M32: Año | AM32: Totales
M33: 2014 | O33: 2015 | Q33: 2016 | S33: 2017 | U33: 2018 | W33: 2019 | Y33: 2020 | AA33: 2021 | AC33: 2022 | AE33: 2023 | AG33: 2024 | AI33: 2025 | AK33: 2026
F34: Acuerdos | M34: =concentrado!E10 -> 123 | O34: =concentrado!E12 -> 177 | Q34: =concentrado!E14 -> 322 | S34: =concentrado!E16 -> 211 | U34: =concentrado!E18 -> 216 | W34: =concentrado!E20 -> 225 | Y34: =concentrado!E22 -> 207 | AA34: =concentrado!E24 -> 261 | AC34: =concentrado!E26 -> 239 | AE34: =concentrado!E28 -> 160 | AG34: =concentrado!E30 -> 142 | AI34: =concentrado!E32 -> 194 | AK34: ='26'!E52 -> 134 | AM34: =concentrado!E36 -> 2611
F35: Dictámenes y Resoluciones | M35: =concentrado!G10 -> 14 | O35: =concentrado!G12 -> 16 | Q35: =concentrado!G14 -> 30 | S35: =concentrado!G16 -> 21 | U35: =concentrado!G18 -> 33 | W35: =concentrado!G20 -> 20 | Y35: =concentrado!G22 -> 20 | AA35: =concentrado!G24 -> 19 | AC35: =concentrado!G26 -> 42 | AE35: =concentrado!G28 -> 69 | AG35: =concentrado!G30 -> 53 | AI35: =concentrado!G32 -> 73 | AK35: ='26'!G52 -> 56 | AM35: =concentrado!G36 -> 466
F36: Informes | M36: =concentrado!I10 -> 44 | O36: =concentrado!I12 -> 56 | Q36: =concentrado!I14 -> 54 | S36: =concentrado!I16 -> 66 | U36: =concentrado!I18 -> 77 | W36: =concentrado!I20 -> 82 | Y36: =concentrado!I22 -> 65 | AA36: =concentrado!I24 -> 73 | AC36: =concentrado!I26 -> 73 | AE36: =concentrado!I28 -> 71 | AG36: =concentrado!I30 -> 61 | AI36: =concentrado!I32 -> 79 | AK36: ='26'!I52 -> 49 | AM36: =concentrado!I36 -> 850
